BEGIN:VCALENDAR
VERSION:2.0
PRODID:-//ChamberMaster//Event Calendar 2.0//EN
METHOD:PUBLISH
X-PUBLISHED-TTL:P3D
REFRESH-INTERVAL:P3D
CALSCALE:GREGORIAN
BEGIN:VEVENT
DTSTART:20221018T123000Z
DTEND:20221018T133000Z
X-MICROSOFT-CDO-ALLDAYEVENT:FALSE
SUMMARY:Agribusiness & Bioscience Committee Meeting
DESCRIPTION:The Chamber's Agribusiness and Bioscience Committee was created to support and stimulate growth of agribusiness/bioscience and build awareness of agribusiness/bioscience issues within the Chamber and surrounding community.  Anyone interested in this committee's mission is welcome to attend. \n\n\n\nThe 2022-2023 committee is co-chaired by Shanda Nichols\, The Bank of Missouri and Dustin Stanton\, Boone County Farm Bureau.\n\n\n\nThis committee meets on the third Tuesday of every other month at 7:30 a.m. at The Walton Building. Please contact the Chamber to be added to the email list to receive the online links.\n\n\n\nUpcoming Meeting Dates:\n\n* August 16\, 2022\n\n* October 18\, 2022\n\n* December 20\, 2022\n\n* February 21\, 2023\n\n* April 18\, 2023\n\n* June 20\, 2023
X-ALT-DESC;FMTTYPE=text/html:<span style="font-size:14px\;"><span style="font-family:verdana\;">The Chamber&#39\;s Agribusiness and Bioscience Committee&nbsp\;was created to&nbsp\;<u>support and stimulate growth of agribusiness/bioscience and build awareness of agribusiness/bioscience issues within the Chamber and surrounding community</u>.&nbsp\; Anyone interested in this committee&#39\;s mission is welcome to attend.&nbsp\;<br />\n<br />\nThe 2022-2023 committee is co-chaired by <strong>Shanda Nichols</strong>\,&nbsp\;<i>The Bank of Missouri&nbsp\;</i></span></span><span style="font-family: verdana\; font-size: 14px\;">and <strong>Dustin Stanton</strong>\, <em>Boone County Farm Bureau</em>.</span><br />\n<br />\n<span style="font-size:14px\;"><span style="font-family:verdana\;">This committee meets on the <em>third Tuesday</em> of <em>every other month</em> at 7:30 a.m.&nbsp\;at The Walton Building. Please contact the <a href="mailto:wschieber@ColumbiaMOChamber.com?subject=Ag%20%26%20Bioscience%20Committee%20-%20email%20list">Chamber</a> to be added to the email list to receive the online links.<br />\n<br />\n<u>Upcoming Meeting Dates:</u><br />\n* August 16\, 2022<br />\n* October 18\, 2022<br />\n* December 20\, 2022<br />\n* February 21\, 2023<br />\n* April 18\, 2023<br />\n* June 20\, 2023</span></span><br />\n&nbsp\;
LOCATION:The Walton Building 300 S Providence Rd. Columbia\, MO 65203
UID:e.2790.9822
SEQUENCE:3
DTSTAMP:20260423T054318Z
URL:https://business.comochamber.com/events/details/agribusiness-bioscience-committee-meeting-2020-2021-10-18-2022-9822
END:VEVENT

END:VCALENDAR
