BEGIN:VCALENDAR
VERSION:2.0
PRODID:-//ChamberMaster//Event Calendar 2.0//EN
METHOD:PUBLISH
X-PUBLISHED-TTL:P3D
REFRESH-INTERVAL:P3D
CALSCALE:GREGORIAN
BEGIN:VEVENT
DTSTART:20250415T123000Z
DTEND:20250415T133000Z
X-MICROSOFT-CDO-ALLDAYEVENT:FALSE
SUMMARY:Agribusiness & Bioscience Committee Meeting
DESCRIPTION:The Chamber's Agribusiness and Bioscience Committee was created to support and stimulate growth of agribusiness/bioscience and build awareness of agribusiness/bioscience issues within the Chamber and surrounding community.  Anyone interested in this committee's mission is welcome to attend. \n\n\n\nThe 2024-2025 committee is co-chaired by Jason Mott\, MFA Incorporated and Charles Holland\, University of Missouri Extension-Boone County\n\n\n\nThis committee meets on the third Tuesday of every other month at 7:30 a.m. at The Walton Building. Please contact the Chamber to be added to the email list to receive the online links.\n\n\n\nUpcoming Meeting Dates:\n\n* August 20\, 2024\n\n* October 15\, 2024\n\n* December 17\, 2024\n\n* February 18\, 2025\n\n* April 15\, 2025\n\n* June 17\, 2025
X-ALT-DESC;FMTTYPE=text/html:<span style="font-size:14px\;"><span style="font-family:verdana\;">The Chamber&#39\;s Agribusiness and Bioscience Committee&nbsp\;was created to&nbsp\;<u>support and stimulate growth of agribusiness/bioscience and build awareness of agribusiness/bioscience issues within the Chamber and surrounding community</u>.&nbsp\; Anyone interested in this committee&#39\;s mission is welcome to attend.&nbsp\;<br />\n<br />\nThe 2024-2025 committee is co-chaired by</span></span><span style="font-family: verdana\; font-size: 14px\;">&nbsp\;<strong>Jason Mott</strong>\, <em>MFA Incorporated and </em><strong>Charles Holland</strong><em>\, University of Missouri Extension-Boone County</em></span><br />\n<br />\n<span style="font-size:14px\;"><span style="font-family:verdana\;">This committee meets on the <em>third Tuesday</em> of <em>every other month</em> at 7:30 a.m.&nbsp\;at The Walton Building. Please contact the <a href="mailto:jamie@comochamber.com?subject=Ag%20%26%20Bioscience%20Committee%20-%20email%20list">Chamber</a> to be added to the email list to receive the online links.<br />\n<br />\n<u>Upcoming Meeting Dates:</u><br />\n* August 20\, 2024<br />\n* October 15\, 2024<br />\n* December 17\, 2024<br />\n* February 18\, 2025<br />\n* April 15\, 2025<br />\n* June 17\, 2025</span></span><br />\n&nbsp\;
LOCATION:The Walton Building 300 S Providence Rd. Columbia\, MO 65203
UID:e.2790.11439
SEQUENCE:3
DTSTAMP:20260421T004935Z
URL:https://business.comochamber.com/events/details/agribusiness-bioscience-committee-meeting-04-15-2025-11439
END:VEVENT

END:VCALENDAR
