BEGIN:VCALENDAR
VERSION:2.0
PRODID:-//ChamberMaster//Event Calendar 2.0//EN
METHOD:PUBLISH
X-PUBLISHED-TTL:P3D
REFRESH-INTERVAL:P3D
CALSCALE:GREGORIAN
BEGIN:VEVENT
DTSTART:20230927T210000Z
DTEND:20230927T213000Z
X-MICROSOFT-CDO-ALLDAYEVENT:FALSE
SUMMARY:RIBBON CUTTING: Joe Machens Hyundai
DESCRIPTION:Ambassadors will host a ribbon cutting celebrating Joe Machens Hyundai's Grand Opening and newly renovated Hyundai dealership.
X-ALT-DESC;FMTTYPE=text/html:<span style="font-size:14px\;"><span style="font-family:verdana\;">Ambassadors will host a ribbon cutting celebrating Joe Machens Hyundai&#39\;s Grand Opening and newly renovated Hyundai dealership.</span></span>
LOCATION:Joe Machens Hyundai 1300 Vandiver Dr. Columbia MO 65202
UID:e.2790.11150
SEQUENCE:3
DTSTAMP:20260421T094505Z
URL:http://business.comochamber.com/events/details/ribbon-cutting-joe-machens-hyundai-11150
END:VEVENT

END:VCALENDAR
