BEGIN:VCALENDAR
VERSION:2.0
PRODID:-//ChamberMaster//Event Calendar 2.0//EN
METHOD:PUBLISH
X-PUBLISHED-TTL:P3D
REFRESH-INTERVAL:P3D
CALSCALE:GREGORIAN
BEGIN:VEVENT
DTSTART:20250612T223000Z
DTEND:20250613T003000Z
X-MICROSOFT-CDO-ALLDAYEVENT:FALSE
SUMMARY:Cheers to the Chair: Women's Network Mixer (ALL WN MEMBERS INVITED!)
DESCRIPTION:Join us as we raise a glass to celebrate our amazing Chair's final event and give a warm welcome to our incoming Chair at a mixer like no other! That's right  for the first time ever\, Women's Network is hosting a FAMILY MIXER!\n\n  Thursday\, June 12\n\n  5:30 7:30 p.m.\n\n  The Kitchen Grill & Games\n\nBring your family along for an evening of fun\, laughter\, and connection!\n\n  This is a MEMBERS-ONLY event.\n\nWomen's Network members are welcome to bring their partners and children as guests.\n\nYour ticket includes:\n\n  One alcoholic beverage (for adults)\n\n  Unlimited soda (for kids or those opting out of alcohol)\n\n  Access to a delicious appetizer buffet\n\n  Pre-registration is required so we can plan appropriately for food and drinks.\n\n  $20 per Women's Network Member\n\n$15 per spouse\n\n$5 per child\n\nLet's make this a night to remember for you and your family!
X-ALT-DESC;FMTTYPE=text/html:<p data-end="310" data-start="74">Join us as we raise a glass to celebrate our amazing Chair&rsquo\;s final event&mdash\;and give a warm welcome to our incoming Chair&mdash\;at a mixer like no other! That&rsquo\;s right&hellip\; for the <strong data-end="260" data-start="241">first time ever</strong>\, <strong data-end="307" data-start="262">Women&rsquo\;s Network is hosting a FAMILY MIXER</strong>!</p>\n\n<p data-end="397" data-start="312">&#128197\; <strong data-end="336" data-start="315">Thursday\, June 12</strong><br data-end="339" data-start="336" />\n&#128352\; <strong data-end="360" data-start="342">5:30&ndash\;7:30 p.m.</strong><br data-end="363" data-start="360" />\n&#128205\; <strong data-end="395" data-start="366">The Kitchen Grill &amp\; Games</strong></p>\n\n<p data-end="473" data-start="399">Bring your family along for an evening of fun\, laughter\, and connection!</p>\n\n<p data-end="603" data-start="475">&#127903\; <strong data-end="511" data-start="478">This is a MEMBERS-ONLY event.</strong><br data-end="514" data-start="511" />\nWomen&rsquo\;s Network members are welcome to bring their <strong data-end="600" data-start="565">partners and children as guests</strong>.</p>\n\n<p data-end="775" data-start="605">Your ticket includes:<br data-end="629" data-start="626" />\n&#127865\; One alcoholic beverage (for adults)<br data-end="670" data-start="667" />\n&#129380\; Unlimited soda (for kids or those opting out of alcohol)<br data-end="732" data-start="729" />\n&#127869\; Access to a delicious appetizer buffet</p>\n\n<p data-end="904" data-start="777">&#128187\; <strong data-end="812" data-start="780">Pre-registration is required</strong> so we can plan appropriately for food and drinks.<br data-end="865" data-start="862" />\n&#128181\; <strong data-end="902" data-start="868">$20 per Women&rsquo\;s Network Member<br />\n$15 per spouse<br />\n$5 per child</strong></p>\n\n<p data-end="969" data-is-last-node="" data-is-only-node="" data-start="906">Let&rsquo\;s make this a night to remember&mdash\;for you and your family! &#128153\;</p>\n
LOCATION:The Kitchen Grill and Games 3711 Discovery Parkway\, Columbia\, MO 65201
UID:e.2790.12033
SEQUENCE:3
DTSTAMP:20260420T085225Z
URL:http://business.comochamber.com/events/details/cheers-to-the-chair-women-s-network-mixer-all-wn-members-invited-12033
END:VEVENT

END:VCALENDAR
